BEGIN:VCALENDAR
VERSION:2.0
PRODID:-//CERN//INDICO//EN
BEGIN:VEVENT
SUMMARY:人工智能赋能的天文学开放科学会议 （第二届）
DTSTART:20260803T010000Z
DTEND:20260807T100000Z
DTSTAMP:20260420T121700Z
UID:indico-event-3@astroai.scaiwell.com
DESCRIPTION:      为响应国家科技战略部署，进一步提升
 青海冷湖在国际天文界的显示度与影响力，并向国内外
 展示 14.5 米光学红外望远镜及我国其他重要天文设施，
 中国科学院国家天文台与之江实验室于 2026 年 8 月 3 日
 至 7 日在青海省德令哈市联合举办“人工智能赋能的天
 文学开放科学会议（第二届）”。      本次会议拟围
 绕以下主题展开深入交流与研讨：人工智能时代的天文
 学（及相关重大科学工程）、地基光学望远镜的发展、
 时域天文学、下一代大规模巡天、银河系与系外行星研
 究、河外天文学与宇宙学。      会议将全面展示冷湖
 重要望远镜项目及相关设施的建设与运行情况，并邀请
 国内外专家学者介绍当前主要大型望远镜及著名天文台
 址，围绕前沿科学问题开展专题研讨。会议期间还将组
 织参会人员赴冷湖基地参观考察。\n\nhttps://astroai.scaiwell.
 com/event/3/
LOCATION:青海省德令哈市海西州会议中心
URL:https://astroai.scaiwell.com/event/3/
END:VEVENT
END:VCALENDAR
